View In:
ArcGIS JavaScript
ArcGIS Online Map Viewer
ArcGIS Earth
ArcMap
View Footprint In:
ArcGIS Online Map Viewer
Service Description: PCKWEB/gwgl_3D_2015
Name: PCKWEB/gwgl_3D_2015
Description:
Single Fused Map Cache: false
Extent:
XMin: 1580028.3248377715
YMin: 6996415.850838452
XMax: 1590041.8877657282
YMax: 7006521.409938179
Spatial Reference: 102100
(3857)
Initial Extent:
XMin: 1580028.3248377715
YMin: 6996415.850838452
XMax: 1590041.8877657282
YMax: 7006521.409938179
Spatial Reference: 102100
(3857)
Full Extent:
XMin: 1580028.3248377715
YMin: 6996415.850838452
XMax: 1590041.8877657282
YMax: 7006521.409938179
Spatial Reference: 102100
(3857)
Pixel Size X: 22.0
Pixel Size Y: 22.0
Band Count: 1
Pixel Type: F32
RasterFunction Infos: {"rasterFunctionInfos": [{
"name": "None",
"description": "",
"help": ""
}]}
Mensuration Capabilities: Basic
Has Histograms: true
Has Colormap: false
Has Multi Dimensions : false
Rendering Rule:
Min Scale: 144447.638572
Max Scale: 2256.994353
Copyright Text:
Service Data Type: esriImageServiceDataTypeGeneric
Min Values: -10.800000190734863
Max Values: 0
Mean Values: -6.826842540484066
Standard Deviation Values: 1.7591203744175257
Object ID Field:
Fields:
None
Default Mosaic Method: Center
Allowed Mosaic Methods:
SortField:
SortValue: null
Mosaic Operator: First
Default Compression Quality: 75
Default Resampling Method: Bilinear
Max Record Count: null
Max Image Height: 4100
Max Image Width: 15000
Max Download Image Count: null
Max Mosaic Image Count: null
Allow Raster Function: true
Allow Copy: null
Allow Analysis: null
Allow Compute TiePoints: false
Supports Statistics: false
Supports Advanced Queries: false
Use StandardizedQueries: true
Raster Type Infos:
Name: Raster Dataset
Description: Supports all ArcGIS Raster Datasets
Help:
Has Raster Attribute Table: false
Edit Fields Info: null
Ownership Based AccessControl For Rasters: null
Child Resources:
Info
Histograms
Key Properties
Legend
Raster Function Infos
Supported Operations:
Export Image
Identify
Measure
Compute Histograms
Compute Statistics Histograms
Get Samples
Compute Class Statistics
Query Boundary
Compute Pixel Location
Validate
Project